BEGIN:VCALENDAR
VERSION:2.0
PRODID:spatie/icalendar-generator
DESCRIPTION:Events from The Fitzrovia Partnership
X-WR-CALDESC:Events from The Fitzrovia Partnership
REFRESH-INTERVAL;VALUE=DURATION:PT1440M
X-PUBLISHED-TTL:PT1440M
BEGIN:VTIMEZONE
TZID:Europe/London
BEGIN:DAYLIGHT
DTSTART:20240331T010000Z
TZOFFSETFROM:+0000
TZOFFSETTO:+0100
END:DAYLIGHT
BEGIN:STANDARD
DTSTART:20241027T020000Z
TZOFFSETFROM:+0100
TZOFFSETTO:+0000
END:STANDARD
BEGIN:DAYLIGHT
DTSTART:20250330T010000Z
TZOFFSETFROM:+0000
TZOFFSETTO:+0100
END:DAYLIGHT
END:VTIMEZONE
BEGIN:VTIMEZONE
TZID:UTC
BEGIN:STANDARD
DTSTART:20250727T160824Z
TZOFFSETFROM:+0000
TZOFFSETTO:+0000
END:STANDARD
END:VTIMEZONE
BEGIN:VEVENT
UID:180-177
DTSTAMP:20260423T160824Z
SUMMARY:End of British Summer Time
LOCATION:
ORGANIZER;CN=hannah.gardiner:MAILTO:hannah.gardiner@fitzroviapartnership.co
 m
DTSTART;TZID=Europe/London;VALUE=DATE:20241027
DTEND;TZID=Europe/London;VALUE=DATE:20241028
X-ALT-DESC;FMTTYPE=TEXT/HTML:
CATEGORIES:General
URL;VALUE=URI:https://fitzroviapartnership.com/mc-events/end-of-british-sum
 mer-time/
METHOD:PUBLISH
END:VEVENT
END:VCALENDAR