BEGIN:VCALENDAR
VERSION:2.0
PRODID:spatie/icalendar-generator
DESCRIPTION:Events from The Fitzrovia Partnership
X-WR-CALDESC:Events from The Fitzrovia Partnership
REFRESH-INTERVAL;VALUE=DURATION:PT1440M
X-PUBLISHED-TTL:PT1440M
BEGIN:VTIMEZONE
TZID:Europe/London
BEGIN:STANDARD
DTSTART:20231029T020000Z
TZOFFSETFROM:+0100
TZOFFSETTO:+0000
END:STANDARD
BEGIN:DAYLIGHT
DTSTART:20240331T010000Z
TZOFFSETFROM:+0000
TZOFFSETTO:+0100
END:DAYLIGHT
BEGIN:STANDARD
DTSTART:20241027T020000Z
TZOFFSETFROM:+0100
TZOFFSETTO:+0000
END:STANDARD
END:VTIMEZONE
BEGIN:VTIMEZONE
TZID:UTC
BEGIN:STANDARD
DTSTART:20250727T102917Z
TZOFFSETFROM:+0000
TZOFFSETTO:+0000
END:STANDARD
END:VTIMEZONE
BEGIN:VEVENT
UID:246-230
DTSTAMP:20260423T102917Z
SUMMARY:Final Sustainability Feedback Session
LOCATION:
ORGANIZER;CN=hannah.gardiner:MAILTO:hannah.gardiner@fitzroviapartnership.co
 m
DTSTART;TZID=Europe/London:20240710T123000
DTEND;TZID=Europe/London:20240711T013000
X-ALT-DESC;FMTTYPE=TEXT/HTML:Join us online for our final sustainability st
 rategy co-creation session. This session will include a wrap-up of insight
 s gained during our recent sustainability drop-in sessions and survey\, in
 cluding feedback from local residents and businesses on how they would lik
 e to see better social and environmental value delivered in the area. This
  session will be your&amp;hellip\;
CATEGORIES:TFP Events
URL;VALUE=URI:https://fitzroviapartnership.com/mc-events/final-sustainabili
 ty-feedback-session/
METHOD:PUBLISH
END:VEVENT
END:VCALENDAR