BEGIN:VCALENDAR
VERSION:2.0
PRODID:spatie/icalendar-generator
DESCRIPTION:Events from The Fitzrovia Partnership
X-WR-CALDESC:Events from The Fitzrovia Partnership
REFRESH-INTERVAL;VALUE=DURATION:PT1440M
X-PUBLISHED-TTL:PT1440M
BEGIN:VTIMEZONE
TZID:Europe/London
BEGIN:DAYLIGHT
DTSTART:20240331T010000Z
TZOFFSETFROM:+0000
TZOFFSETTO:+0100
END:DAYLIGHT
BEGIN:STANDARD
DTSTART:20241027T020000Z
TZOFFSETFROM:+0100
TZOFFSETTO:+0000
END:STANDARD
BEGIN:DAYLIGHT
DTSTART:20250330T010000Z
TZOFFSETFROM:+0000
TZOFFSETTO:+0100
END:DAYLIGHT
END:VTIMEZONE
BEGIN:VTIMEZONE
TZID:UTC
BEGIN:STANDARD
DTSTART:20250729T120032Z
TZOFFSETFROM:+0000
TZOFFSETTO:+0000
END:STANDARD
END:VTIMEZONE
BEGIN:VEVENT
UID:278-259
DTSTAMP:20260425T120032Z
SUMMARY:Fitzrovia: Farm\, food &amp;amp\; fashion
LOCATION:Hallam Conference Centre     w1w 6jj
ORGANIZER;CN=hannah.gardiner:MAILTO:hannah.gardiner@fitzroviapartnership.co
 m
DTSTART;TZID=Europe/London:20241001T160000
DTEND;TZID=Europe/London:20241001T195900
X-ALT-DESC;FMTTYPE=TEXT/HTML:Join this exciting event which will bring so
 mething very different to businesses in Fitzrovia. See how you can impleme
 nt a Zero Waste Sustainability strategy and discover the extraordinary wor
 k of Cavendish Living Lab which takes waste products and turns them into a
 dded value solutions\, such as: converting food and organic waste into liq
 uid fertiliser to grow micro&amp;hellip\;
CATEGORIES:TFP Events,  Programmes &amp; Campaigns
URL;VALUE=URI:https://fitzroviapartnership.com/mc-events/fitzrovia-farm-foo
 d-fashion/
METHOD:PUBLISH
END:VEVENT
END:VCALENDAR