BEGIN:VCALENDAR
VERSION:2.0
PRODID:spatie/icalendar-generator
DESCRIPTION:Events from The Fitzrovia Partnership
X-WR-CALDESC:Events from The Fitzrovia Partnership
REFRESH-INTERVAL;VALUE=DURATION:PT1440M
X-PUBLISHED-TTL:PT1440M
BEGIN:VTIMEZONE
TZID:Europe/London
BEGIN:DAYLIGHT
DTSTART:20240331T010000Z
TZOFFSETFROM:+0000
TZOFFSETTO:+0100
END:DAYLIGHT
BEGIN:STANDARD
DTSTART:20241027T020000Z
TZOFFSETFROM:+0100
TZOFFSETTO:+0000
END:STANDARD
END:VTIMEZONE
BEGIN:VTIMEZONE
TZID:UTC
BEGIN:STANDARD
DTSTART:20250727T153939Z
TZOFFSETFROM:+0000
TZOFFSETTO:+0000
END:STANDARD
END:VTIMEZONE
BEGIN:VEVENT
UID:271-254
DTSTAMP:20260423T153939Z
SUMMARY:LDF Fitzrovia District Day and Food Trail
LOCATION:
ORGANIZER;CN=Elliott Brandon:MAILTO:ellbrandon@gmail.com
DTSTART;TZID=Europe/London:20240918T000000
DTEND;TZID=Europe/London:20240918T010000
X-ALT-DESC;FMTTYPE=TEXT/HTML:
CATEGORIES:Programmes &amp; Campaigns
URL;VALUE=URI:https://fitzroviapartnership.com/mc-events/ldf-fitzrovia-dist
 rict-day-and-food-trail/
METHOD:PUBLISH
END:VEVENT
END:VCALENDAR