BEGIN:VCALENDAR
VERSION:2.0
PRODID:spatie/icalendar-generator
DESCRIPTION:Events from The Fitzrovia Partnership
X-WR-CALDESC:Events from The Fitzrovia Partnership
REFRESH-INTERVAL;VALUE=DURATION:PT1440M
X-PUBLISHED-TTL:PT1440M
BEGIN:VTIMEZONE
TZID:Europe/London
BEGIN:STANDARD
DTSTART:20241027T020000Z
TZOFFSETFROM:+0100
TZOFFSETTO:+0000
END:STANDARD
BEGIN:DAYLIGHT
DTSTART:20250330T010000Z
TZOFFSETFROM:+0000
TZOFFSETTO:+0100
END:DAYLIGHT
END:VTIMEZONE
BEGIN:VTIMEZONE
TZID:UTC
BEGIN:STANDARD
DTSTART:20250729T134721Z
TZOFFSETFROM:+0000
TZOFFSETTO:+0000
END:STANDARD
END:VTIMEZONE
BEGIN:VEVENT
UID:301-274
DTSTAMP:20260425T134721Z
SUMMARY:LFA in Fitzrovia workshop (Free)
LOCATION:University of Westminster Pavillion Room on Cavendish Campus 115 N
 ew Cavendish Street   W1W 6UW
ORGANIZER;CN=Elliott Brandon:MAILTO:ellbrandon@gmail.com
DTSTART;TZID=Europe/London:20250203T160000
DTEND;TZID=Europe/London:20250203T173000
X-ALT-DESC;FMTTYPE=TEXT/HTML:
CATEGORIES:TFP Events
URL;VALUE=URI:https://fitzroviapartnership.com/mc-events/lfa-in-fitzrovia-w
 orkshop-free/
METHOD:PUBLISH
END:VEVENT
END:VCALENDAR