BEGIN:VCALENDAR
VERSION:2.0
PRODID:spatie/icalendar-generator
DESCRIPTION:Events from The Fitzrovia Partnership
X-WR-CALDESC:Events from The Fitzrovia Partnership
REFRESH-INTERVAL;VALUE=DURATION:PT1440M
X-PUBLISHED-TTL:PT1440M
BEGIN:VTIMEZONE
TZID:Europe/London
BEGIN:STANDARD
DTSTART:20231029T020000Z
TZOFFSETFROM:+0100
TZOFFSETTO:+0000
END:STANDARD
BEGIN:DAYLIGHT
DTSTART:20240331T010000Z
TZOFFSETFROM:+0000
TZOFFSETTO:+0100
END:DAYLIGHT
END:VTIMEZONE
BEGIN:VTIMEZONE
TZID:UTC
BEGIN:STANDARD
DTSTART:20250727T081251Z
TZOFFSETFROM:+0000
TZOFFSETTO:+0000
END:STANDARD
END:VTIMEZONE
BEGIN:VEVENT
UID:196-193
DTSTAMP:20260423T081251Z
SUMMARY:LFA Welcome to Warren Street Design Competition. Register interest 
 deadline
LOCATION:
ORGANIZER;CN=Elliott Brandon:MAILTO:ellbrandon@gmail.com
DTSTART;TZID=Europe/London:20240108T000000
DTEND;TZID=Europe/London:20240108T120000
X-ALT-DESC;FMTTYPE=TEXT/HTML:
CATEGORIES:TFP Events
URL;VALUE=URI:https://fitzroviapartnership.com/mc-events/lfa-welcome-to-war
 ren-street-design-competition-register-interest-deadline/
METHOD:PUBLISH
END:VEVENT
END:VCALENDAR