BEGIN:VCALENDAR
VERSION:2.0
PRODID:spatie/icalendar-generator
DESCRIPTION:Events from The Fitzrovia Partnership
X-WR-CALDESC:Events from The Fitzrovia Partnership
REFRESH-INTERVAL;VALUE=DURATION:PT1440M
X-PUBLISHED-TTL:PT1440M
BEGIN:VTIMEZONE
TZID:Europe/London
BEGIN:STANDARD
DTSTART:20231029T020000Z
TZOFFSETFROM:+0100
TZOFFSETTO:+0000
END:STANDARD
BEGIN:DAYLIGHT
DTSTART:20240331T010000Z
TZOFFSETFROM:+0000
TZOFFSETTO:+0100
END:DAYLIGHT
END:VTIMEZONE
BEGIN:VTIMEZONE
TZID:UTC
BEGIN:STANDARD
DTSTART:20250726T123435Z
TZOFFSETFROM:+0000
TZOFFSETTO:+0000
END:STANDARD
END:VTIMEZONE
BEGIN:VEVENT
UID:199-195
DTSTAMP:20260422T123435Z
SUMMARY:LFA WORKSHOP-Events in Fitzrovia &amp;gt\;
LOCATION:
ORGANIZER;CN=hannah.gardiner:MAILTO:hannah.gardiner@fitzroviapartnership.co
 m
DTSTART;TZID=Europe/London:20240207T000000
DTEND;TZID=Europe/London:20240207T010000
X-ALT-DESC;FMTTYPE=TEXT/HTML:London Festival of Architecture events worksho
 p for Fitzrovia businesses at Seddons. Join to hear more about how you can
  get involved with the programme and share ideas. Register now
CATEGORIES:TFP Events
URL;VALUE=URI:https://fitzroviapartnership.com/mc-events/lfa-workshop-event
 s-in-fitzrovia/
METHOD:PUBLISH
END:VEVENT
END:VCALENDAR