BEGIN:VCALENDAR
VERSION:2.0
PRODID:spatie/icalendar-generator
DESCRIPTION:Events from The Fitzrovia Partnership
X-WR-CALDESC:Events from The Fitzrovia Partnership
REFRESH-INTERVAL;VALUE=DURATION:PT1440M
X-PUBLISHED-TTL:PT1440M
BEGIN:VTIMEZONE
TZID:Europe/London
BEGIN:STANDARD
DTSTART:20231029T020000Z
TZOFFSETFROM:+0100
TZOFFSETTO:+0000
END:STANDARD
BEGIN:DAYLIGHT
DTSTART:20240331T010000Z
TZOFFSETFROM:+0000
TZOFFSETTO:+0100
END:DAYLIGHT
END:VTIMEZONE
BEGIN:VTIMEZONE
TZID:UTC
BEGIN:STANDARD
DTSTART:20250728T074202Z
TZOFFSETFROM:+0000
TZOFFSETTO:+0000
END:STANDARD
END:VTIMEZONE
BEGIN:VEVENT
UID:230-198
DTSTAMP:20260424T074202Z
SUMMARY:SUSTAINABILITY FORUM
LOCATION:
ORGANIZER;CN=hannah.gardiner:MAILTO:hannah.gardiner@fitzroviapartnership.co
 m
DTSTART;TZID=Europe/London:20240307T110000
DTEND;TZID=Europe/London:20240307T120000
X-ALT-DESC;FMTTYPE=TEXT/HTML:Join us at our upcoming Sustainability Forum t
 o discover and contribute to Fitzrovia becoming a sustainable district. Th
 is is an exciting opportunity to see what ‘green choices’ exist in Fit
 zrovia to help you become a more sustainable business. Whether you are sta
 rting out on your sustainability journey or have a well-established strate
 gy\, please join us&amp;hellip\;
CATEGORIES:TFP Events
URL;VALUE=URI:https://fitzroviapartnership.com/mc-events/sustainability-for
 um/
METHOD:PUBLISH
END:VEVENT
END:VCALENDAR