BEGIN:VCALENDAR
VERSION:2.0
PRODID:spatie/icalendar-generator
DESCRIPTION:Events from The Fitzrovia Partnership
X-WR-CALDESC:Events from The Fitzrovia Partnership
REFRESH-INTERVAL;VALUE=DURATION:PT1440M
X-PUBLISHED-TTL:PT1440M
BEGIN:VTIMEZONE
TZID:Europe/London
BEGIN:STANDARD
DTSTART:20231029T020000Z
TZOFFSETFROM:+0100
TZOFFSETTO:+0000
END:STANDARD
BEGIN:DAYLIGHT
DTSTART:20240331T010000Z
TZOFFSETFROM:+0000
TZOFFSETTO:+0100
END:DAYLIGHT
END:VTIMEZONE
BEGIN:VTIMEZONE
TZID:UTC
BEGIN:STANDARD
DTSTART:20250727T103414Z
TZOFFSETFROM:+0000
TZOFFSETTO:+0000
END:STANDARD
END:VTIMEZONE
BEGIN:VEVENT
UID:139-136
DTSTAMP:20260423T103414Z
SUMMARY:TFP BUSINESS PRIORITIES SUBGROUP MEETING &amp;gt\;
LOCATION:
ORGANIZER;CN=hannah.gardiner:MAILTO:hannah.gardiner@fitzroviapartnership.co
 m
DTSTART;TZID=Europe/London;VALUE=DATE:20240131
DTEND;TZID=Europe/London;VALUE=DATE:20240201
X-ALT-DESC;FMTTYPE=TEXT/HTML:We have some really exciting projects to share
  with you at this quarter's Business Priorities meeting including an updat
 e on events and programmes for 2024. This is your opportunity to learn abo
 ut our current plans for Fitzrovia. We would also like your input into wha
 t support you need so we can shape our activities to&amp;hellip\;
CATEGORIES:TFP Events
URL;VALUE=URI:https://fitzroviapartnership.com/mc-events/tfp-business-prior
 ities-subgroup-meeting/
METHOD:PUBLISH
END:VEVENT
END:VCALENDAR