BEGIN:VCALENDAR
VERSION:2.0
PRODID:spatie/icalendar-generator
DESCRIPTION:Events from The Fitzrovia Partnership
X-WR-CALDESC:Events from The Fitzrovia Partnership
REFRESH-INTERVAL;VALUE=DURATION:PT1440M
X-PUBLISHED-TTL:PT1440M
BEGIN:VTIMEZONE
TZID:Europe/London
BEGIN:STANDARD
DTSTART:20241027T020000Z
TZOFFSETFROM:+0100
TZOFFSETTO:+0000
END:STANDARD
BEGIN:DAYLIGHT
DTSTART:20250330T010000Z
TZOFFSETFROM:+0000
TZOFFSETTO:+0100
END:DAYLIGHT
END:VTIMEZONE
BEGIN:VTIMEZONE
TZID:UTC
BEGIN:STANDARD
DTSTART:20250727T120619Z
TZOFFSETFROM:+0000
TZOFFSETTO:+0000
END:STANDARD
END:VTIMEZONE
BEGIN:VEVENT
UID:289-268
DTSTAMP:20260423T120619Z
SUMMARY:Winter Fitzrovia Football League
LOCATION:
ORGANIZER;CN=Elliott Brandon:MAILTO:ellbrandon@gmail.com
RRULE:FREQ=WEEKLY;UNTIL=20250224T000000Z
DTSTART;TZID=Europe/London:20250113T120000
DTEND;TZID=Europe/London:20250113T132000
X-ALT-DESC;FMTTYPE=TEXT/HTML:
CATEGORIES:TFP Events
URL;VALUE=URI:https://fitzroviapartnership.com/mc-events/winter-fitzrovia-f
 ootball-league/?mc_id=289
METHOD:PUBLISH
END:VEVENT
END:VCALENDAR