BEGIN:VCALENDAR
VERSION:2.0
PRODID:spatie/icalendar-generator
DESCRIPTION:Events from The Fitzrovia Partnership
X-WR-CALDESC:Events from The Fitzrovia Partnership
REFRESH-INTERVAL;VALUE=DURATION:PT1440M
X-PUBLISHED-TTL:PT1440M
BEGIN:VTIMEZONE
TZID:Europe/London
BEGIN:DAYLIGHT
DTSTART:20230326T010000Z
TZOFFSETFROM:+0000
TZOFFSETTO:+0100
END:DAYLIGHT
BEGIN:STANDARD
DTSTART:20231029T020000Z
TZOFFSETFROM:+0100
TZOFFSETTO:+0000
END:STANDARD
END:VTIMEZONE
BEGIN:VTIMEZONE
TZID:UTC
BEGIN:STANDARD
DTSTART:20250728T162555Z
TZOFFSETFROM:+0000
TZOFFSETTO:+0000
END:STANDARD
END:VTIMEZONE
BEGIN:VEVENT
UID:72-70
DTSTAMP:20260424T162555Z
SUMMARY:World Environment Health day
LOCATION:
ORGANIZER;CN=Elliott Brandon:MAILTO:ellbrandon@gmail.com
DTSTART;TZID=Europe/London;VALUE=DATE:20230926
DTEND;TZID=Europe/London;VALUE=DATE:20230927
X-ALT-DESC;FMTTYPE=TEXT/HTML:
CATEGORIES:Programmes &amp; Campaigns
URL;VALUE=URI:https://fitzroviapartnership.com/mc-events/world-environment-
 health-day/
METHOD:PUBLISH
END:VEVENT
END:VCALENDAR